BEGIN:VCALENDAR
VERSION:2.0
PRODID:-//SI Cert - ECPv6.15.8//NONSGML v1.0//EN
CALSCALE:GREGORIAN
METHOD:PUBLISH
X-WR-CALNAME:SI Cert
X-ORIGINAL-URL:https://sicert.net
X-WR-CALDESC:Eventi per SI Cert
REFRESH-INTERVAL;VALUE=DURATION:PT1H
X-Robots-Tag:noindex
X-PUBLISHED-TTL:PT1H
BEGIN:VTIMEZONE
TZID:Europe/Paris
BEGIN:DAYLIGHT
TZOFFSETFROM:+0100
TZOFFSETTO:+0200
TZNAME:CEST
DTSTART:20230326T010000
END:DAYLIGHT
BEGIN:STANDARD
TZOFFSETFROM:+0200
TZOFFSETTO:+0100
TZNAME:CET
DTSTART:20231029T010000
END:STANDARD
BEGIN:DAYLIGHT
TZOFFSETFROM:+0100
TZOFFSETTO:+0200
TZNAME:CEST
DTSTART:20240331T010000
END:DAYLIGHT
BEGIN:STANDARD
TZOFFSETFROM:+0200
TZOFFSETTO:+0100
TZNAME:CET
DTSTART:20241027T010000
END:STANDARD
BEGIN:DAYLIGHT
TZOFFSETFROM:+0100
TZOFFSETTO:+0200
TZNAME:CEST
DTSTART:20250330T010000
END:DAYLIGHT
BEGIN:STANDARD
TZOFFSETFROM:+0200
TZOFFSETTO:+0100
TZNAME:CET
DTSTART:20251026T010000
END:STANDARD
END:VTIMEZONE
BEGIN:VEVENT
DTSTART;TZID=Europe/Paris:20241015T090000
DTEND;TZID=Europe/Paris:20241015T180000
DTSTAMP:20260425T152009
CREATED:20241015T083000Z
LAST-MODIFIED:20241011T153846Z
UID:12897-1728982800-1729015200@sicert.net
SUMMARY:Operatori dei servizi ausiliari alla sicurezza UNI 11925
DESCRIPTION:CERTIFICAZIONE PROFESSIONALE: Responsabile \n\n\n\n\n\n \n\n\n\nCERTIFICAZIONE PROFESSIONALE: Coordinatore \n\n\n\n\n\n \n\n\n\nCERTIFICAZIONE PROFESSIONALE: Assistente \n\n\n\n\n\n\n\n\n\n\n\nSI CERT:  15 ottobre 2024 \n\n\n\nSiete cordialmente invitati al nostro evento di prova\, organizzato da SI Cert\, che si terrà come da annuncio Questo evento è un’opportunità unica per vivere un’esperienza formativa e informativa\, pensata appositamente per testare e migliorare i nostri servizi. \n\n\n\nDurante la giornata\, avrete l’opportunità di partecipare a vari workshop\, seminari e sessioni interattive\, tutti progettati per fornire un’esperienza coinvolgente e ricca di contenuti. L’evento è aperto a tutti coloro che sono interessati a conoscere meglio le attività di SI Cert e a contribuire al nostro processo di miglioramento continuo. \n\n\n\nVi preghiamo di notare che questo è un evento di prova e\, come tale\, alcuni dettagli potrebbero essere soggetti a modifiche. Vi invitiamo a restare aggiornati tramite il nostro sito web e i canali social per eventuali aggiornamenti. \n\n\n\nLa partecipazione è gratuita\, ma richiede la registrazione anticipata. Per iscrivervi\, visitate il nostro sito web o contattateci direttamente. \n\n\n\nNon vediamo l’ora di accogliervi e di trascorrere insieme una giornata all’insegna dell’apprendimento e della condivisione!\n\n  \n\n\n\nCompila questo modulo per essere ricontattato per l'iscrizione\n\n Nome*\n     \n\n Cognome*\n     \n\n Contatto telefonico*\n     \n\n Mail*\n     \n\n Certificazione di interesse\n     \n\n Altre domande\n     \n\n\n    Autorizzo all'utilizzo dei miei dati per essere ricontattato per le sole informazioni sulla certificazione.\n\n\nΔ
URL:https://sicert.net/eventi/operatori-dei-servizi-ausiliari-alla-sicurezza-uni-11925-sessione-in-remoto/
CATEGORIES:Qualità
END:VEVENT
BEGIN:VEVENT
DTSTART;TZID=Europe/Paris:20240920T090000
DTEND;TZID=Europe/Paris:20240920T180000
DTSTAMP:20260425T152009
CREATED:20240129T093704Z
LAST-MODIFIED:20240719T105524Z
UID:10367-1726822800-1726855200@sicert.net
SUMMARY:CDE Manager
DESCRIPTION:CERTIFICAZIONE PROFESSIONALE: CDE Manager \n\n\n\n\n\n\n\n\n\n\n\n\n\nSI CERT: CDE Manager – 20 settembre 2024 \n\n\n\nL’Esame permette di certificare le proprie competenze BIM in conformità alla UNI 11337-7:2018 e UNI/PdR 78/2020 per la Gestione digitale dei processi informativi delle costruzioni in ambito dell’Edilizia e opere di ingegneria civile. \n\n\n\nDiventare un professionista BIM certificato ti permetterà di consolidare le conoscenze\, i metodi e gli strumenti di gestione informativa digitale delle costruzioni per la progettazione e la realizzazione di opere di costruzione. \n\n\n\nLa Certificazione professionale consente di essere iscritti all’elenco ACCREDIA dedicato alle figure professionali. Ciò permette di acquisire un plus professionale spendibile nel settore della gestione informativa digitale delle costruzioni. \n\n\n\nScegli la figura professionale più adatta a te tra CDE Manager – BIM Manager  – BIM Coordinator – BIM Specialist  ed iscriviti.\n\n  \n\n\n\nCompila questo modulo per essere ricontattato per l'iscrizione\n\n Nome*\n     \n\n Cognome*\n     \n\n Contatto telefonico*\n     \n\n Mail*\n     \n\n Certificazione di interesse\n     \n\n Altre domande\n     \n\n\n    Autorizzo all'utilizzo dei miei dati per essere ricontattato per le sole informazioni sulla certificazione.\n\n\nΔ
URL:https://sicert.net/eventi/cde-manager/
LOCATION:Capaccio\, SS 18 Tirrena Inferiore\, 119\, 84047 Capaccio Paestum SA\, Capaccio Paestum\, 84047\, Italy
CATEGORIES:Qualità
END:VEVENT
BEGIN:VEVENT
DTSTART;TZID=Europe/Paris:20240920T090000
DTEND;TZID=Europe/Paris:20240920T180000
DTSTAMP:20260425T152009
CREATED:20240129T093605Z
LAST-MODIFIED:20240719T103009Z
UID:10368-1726822800-1726855200@sicert.net
SUMMARY:BIM Specialist
DESCRIPTION:CERTIFICAZIONE PROFESSIONALE: BIM Specialist \n\n\n\n\n\n\n\n\n\n\n\n\n\nSI CERT: BIM Specialist – 20 settembre 2024 \n\n\n\nL’Esame permette di certificare le proprie competenze BIM in conformità alla UNI 11337-7:2018 e UNI/PdR 78/2020 per la Gestione digitale dei processi informativi delle costruzioni in ambito dell’Edilizia e opere di ingegneria civile. \n\n\n\nDiventare un professionista BIM certificato ti permetterà di consolidare le conoscenze\, i metodi e gli strumenti di gestione informativa digitale delle costruzioni per la progettazione e la realizzazione di opere di costruzione. \n\n\n\nLa Certificazione professionale consente di essere iscritti all’elenco ACCREDIA dedicato alle figure professionali. Ciò permette di acquisire un plus professionale spendibile nel settore della gestione informativa digitale delle costruzioni. \n\n\n\nScegli la figura professionale più adatta a te tra CDE Manager – BIM Manager  – BIM Coordinator – BIM Specialist  ed iscriviti. \n\n\n\n\n\n  \n\n\n\nCompila questo modulo per essere ricontattato per l'iscrizione\n\n Nome*\n     \n\n Cognome*\n     \n\n Contatto telefonico*\n     \n\n Mail*\n     \n\n Certificazione di interesse\n     \n\n Altre domande\n     \n\n\n    Autorizzo all'utilizzo dei miei dati per essere ricontattato per le sole informazioni sulla certificazione.\n\n\nΔ
URL:https://sicert.net/eventi/bim-specialist/
LOCATION:SS 18 Tirrena Inferiore\, 119/121\, 84047 Capaccio Paestum SA\, SS 18 119/121\, Capaccio Paestum\, 84047\, Italia
CATEGORIES:Qualità
END:VEVENT
BEGIN:VEVENT
DTSTART;TZID=Europe/Paris:20240920T090000
DTEND;TZID=Europe/Paris:20240920T180000
DTSTAMP:20260425T152009
CREATED:20240116T144531Z
LAST-MODIFIED:20240721T212042Z
UID:10313-1726822800-1726855200@sicert.net
SUMMARY:BIM Coordinator
DESCRIPTION:CERTIFICAZIONE PROFESSIONALE: BIM Coordinator \n\n\n\n\n\n\n\n\n\n\n\n\n\nSI CERT: BIM Coordinator – 20 settembre 2024 \n\n\n\nL’Esame permette di certificare le proprie competenze BIM in conformità alla UNI 11337-7:2018 e UNI/PdR 78/2020 per la Gestione digitale dei processi informativi delle costruzioni in ambito dell’Edilizia e opere di ingegneria civile. \n\n\n\nDiventare un professionista BIM certificato ti permetterà di consolidare le conoscenze\, i metodi e gli strumenti di gestione informativa digitale delle costruzioni per la progettazione e la realizzazione di opere di costruzione. \n\n\n\nLa Certificazione professionale consente di essere iscritti all’elenco ACCREDIA dedicato alle figure professionali. Ciò permette di acquisire un plus professionale spendibile nel settore della gestione informativa digitale delle costruzioni. \n\n\n\nScegli la figura professionale più adatta a te tra CDE Manager – BIM Manager  – BIM Coordinator – BIM Specialist  ed iscriviti. \n\n\n\n\n\n  \n\n\n\nCompila questo modulo per essere ricontattato per l'iscrizione\n\n Nome*\n     \n\n Cognome*\n     \n\n Contatto telefonico*\n     \n\n Mail*\n     \n\n Certificazione di interesse\n     \n\n Altre domande\n     \n\n\n    Autorizzo all'utilizzo dei miei dati per essere ricontattato per le sole informazioni sulla certificazione.\n\n\nΔ
URL:https://sicert.net/eventi/10313/
LOCATION:Capaccio\, SS 18 Tirrena Inferiore\, 119\, 84047 Capaccio Paestum SA\, Capaccio Paestum\, 84047\, Italy
CATEGORIES:Qualità
END:VEVENT
BEGIN:VEVENT
DTSTART;TZID=Europe/Paris:20240918T090000
DTEND;TZID=Europe/Paris:20240918T180000
DTSTAMP:20260425T152009
CREATED:20241127T151800Z
LAST-MODIFIED:20241127T151801Z
UID:14018-1726650000-1726682400@sicert.net
SUMMARY:BIM Specialist
DESCRIPTION:CERTIFICAZIONE PROFESSIONALE: BIM Specialist \n\n\n\n\n\n\n\n\n\n\n\n\n\nSI CERT: BIM Specialist – 20 settembre 2024 \n\n\n\nL’Esame permette di certificare le proprie competenze BIM in conformità alla UNI 11337-7:2018 e UNI/PdR 78/2020 per la Gestione digitale dei processi informativi delle costruzioni in ambito dell’Edilizia e opere di ingegneria civile. \n\n\n\nDiventare un professionista BIM certificato ti permetterà di consolidare le conoscenze\, i metodi e gli strumenti di gestione informativa digitale delle costruzioni per la progettazione e la realizzazione di opere di costruzione. \n\n\n\nLa Certificazione professionale consente di essere iscritti all’elenco ACCREDIA dedicato alle figure professionali. Ciò permette di acquisire un plus professionale spendibile nel settore della gestione informativa digitale delle costruzioni. \n\n\n\nScegli la figura professionale più adatta a te tra CDE Manager – BIM Manager  – BIM Coordinator – BIM Specialist  ed iscriviti. \n\n\n\n\n\n  \n\n\n\nCompila questo modulo per essere ricontattato per l'iscrizione\n\n Nome*\n     \n\n Cognome*\n     \n\n Contatto telefonico*\n     \n\n Mail*\n     \n\n Certificazione di interesse\n     \n\n Altre domande\n     \n\n\n    Autorizzo all'utilizzo dei miei dati per essere ricontattato per le sole informazioni sulla certificazione.\n\n\nΔ
URL:https://sicert.net/eventi/bim-specialist-3/
LOCATION:SS 18 Tirrena Inferiore\, 119/121\, 84047 Capaccio Paestum SA\, SS 18 119/121\, Capaccio Paestum\, 84047\, Italia
CATEGORIES:Qualità
END:VEVENT
BEGIN:VEVENT
DTSTART;TZID=Europe/Paris:20240726T090000
DTEND;TZID=Europe/Paris:20240726T180000
DTSTAMP:20260425T152009
CREATED:20240721T211807Z
LAST-MODIFIED:20240721T212134Z
UID:12572-1721984400-1722016800@sicert.net
SUMMARY:BIM Coordinator
DESCRIPTION:CERTIFICAZIONE PROFESSIONALE: BIM Coordinator \n\n\n\n\n\n\n\n\n\n\n\n\n\nSI CERT: BIM Coordinator – 26 luglio 2024  \n\n\n\nL’Esame permette di certificare le proprie competenze BIM in conformità alla UNI 11337-7:2018 e UNI/PdR 78/2020 per la Gestione digitale dei processi informativi delle costruzioni in ambito dell’Edilizia e opere di ingegneria civile. \n\n\n\nDiventare un professionista BIM certificato ti permetterà di consolidare le conoscenze\, i metodi e gli strumenti di gestione informativa digitale delle costruzioni per la progettazione e la realizzazione di opere di costruzione. \n\n\n\nLa Certificazione professionale consente di essere iscritti all’elenco ACCREDIA dedicato alle figure professionali. Ciò permette di acquisire un plus professionale spendibile nel settore della gestione informativa digitale delle costruzioni. \n\n\n\nScegli la figura professionale più adatta a te tra CDE Manager – BIM Manager  – BIM Coordinator – BIM Specialist  ed iscriviti. \n\n\n\n\n\n  \n\n\n\nCompila questo modulo per essere ricontattato per l'iscrizione\n\n Nome*\n     \n\n Cognome*\n     \n\n Contatto telefonico*\n     \n\n Mail*\n     \n\n Certificazione di interesse\n     \n\n Altre domande\n     \n\n\n    Autorizzo all'utilizzo dei miei dati per essere ricontattato per le sole informazioni sulla certificazione.\n\n\nΔ
URL:https://sicert.net/eventi/bim-coordinator/
LOCATION:Capaccio\, SS 18 Tirrena Inferiore\, 119\, 84047 Capaccio Paestum SA\, Capaccio Paestum\, 84047\, Italy
CATEGORIES:Qualità
END:VEVENT
END:VCALENDAR