BEGIN:VCALENDAR
VERSION:2.0
PRODID:-//SI Cert - ECPv6.15.8//NONSGML v1.0//EN
CALSCALE:GREGORIAN
METHOD:PUBLISH
X-ORIGINAL-URL:https://sicert.net
X-WR-CALDESC:Eventi per SI Cert
REFRESH-INTERVAL;VALUE=DURATION:PT1H
X-Robots-Tag:noindex
X-PUBLISHED-TTL:PT1H
BEGIN:VTIMEZONE
TZID:Europe/Paris
BEGIN:DAYLIGHT
TZOFFSETFROM:+0100
TZOFFSETTO:+0200
TZNAME:CEST
DTSTART:20250330T010000
END:DAYLIGHT
BEGIN:STANDARD
TZOFFSETFROM:+0200
TZOFFSETTO:+0100
TZNAME:CET
DTSTART:20251026T010000
END:STANDARD
BEGIN:DAYLIGHT
TZOFFSETFROM:+0100
TZOFFSETTO:+0200
TZNAME:CEST
DTSTART:20260329T010000
END:DAYLIGHT
BEGIN:STANDARD
TZOFFSETFROM:+0200
TZOFFSETTO:+0100
TZNAME:CET
DTSTART:20261025T010000
END:STANDARD
BEGIN:DAYLIGHT
TZOFFSETFROM:+0100
TZOFFSETTO:+0200
TZNAME:CEST
DTSTART:20270328T010000
END:DAYLIGHT
BEGIN:STANDARD
TZOFFSETFROM:+0200
TZOFFSETTO:+0100
TZNAME:CET
DTSTART:20271031T010000
END:STANDARD
END:VTIMEZONE
BEGIN:VEVENT
DTSTART;TZID=Europe/Paris:20260326T090000
DTEND;TZID=Europe/Paris:20260326T180000
DTSTAMP:20260425T132612
CREATED:20260306T153140Z
LAST-MODIFIED:20260306T154104Z
UID:41039-1774515600-1774548000@sicert.net
SUMMARY:Certificazione Project Manager
DESCRIPTION:La certificazione è rivolta a professionisti con responsabilità nella gestione di progetti\, ovvero a coloro che: \n\n\n\n\ndirigono e coordinano le attività di progetto;\n\n\n\ngestiscono risorse\, tempi\, costi e qualità;\n\n\n\naffrontano rischi\, comunicazione e stakeholder engagement;\n\n\n\noperano come Project Manager autonomamente o all’interno di strutture organizzative.Il ruolo del Project Manager\, secondo la UNI 11648\, comprende compiti\, conoscenze e abilità focalizzati sull’efficace pianificazione\, esecuzione e chiusura di progetti\, in linea con le migliori pratiche internazionali di Project Management.\n\n\n\n\nCompetenze certificateIl professionista certificato UNI 11648:2022 dimostra competenze su: \n\n\n\n\ngestione integrata del progetto (pianificazione\, controllo\, chiusura)\n\n\n\ncoordinamento delle risorse umane\, materiali e finanziarie\n\n\n\ngestione dei rischi e delle comunicazioni\n\n\n\napplicazione di metodologie e strumenti di Project Management\n\n\n\ncapacità decisionale\, autonomia e responsabilità nella conduzione di progetti complessi\n\n\n\n\nUn vantaggio per la tua carrieraLa certificazione secondo la norma UNI 11648:2022 è sempre più richiesta nei bandi pubblici\, negli affidamenti di servizi e lavori e come elemento qualificante nelle offerte professionali. Investire nella certificazione significa distinguersi professionalmente\, aumentare la fiducia della committenza e consolidare la propria posizione nel mercato del lavoro.
URL:https://sicert.net/eventi/certificazione-project-manager/
END:VEVENT
BEGIN:VEVENT
DTSTART;TZID=Europe/Paris:20260422T090000
DTEND;TZID=Europe/Paris:20260422T180000
DTSTAMP:20260425T132612
CREATED:20251030T144914Z
LAST-MODIFIED:20260306T153437Z
UID:36903-1776848400-1776880800@sicert.net
SUMMARY:EGE settore Civile e Industriale
DESCRIPTION:CERTIFICAZIONE PROFESSIONALE: Esperto in Gestione dell’Energia – EGE Civile e Industriale per un settore \n\n\n\n\n\nSI CERT : EGE settore Civile e Industriale – modalità sincrona da remoto \n\n\n\nLa certificazione Esperto in Gestione dell’Energia (EGE)\, secondo la norma UNI 11339\, è un riconoscimento professionale che attesta la competenza di un individuo nel campo della gestione dell’energia all’interno di organizzazioni pubbliche e private. Il certificato è volto a garantire che i professionisti che operano nel settore energetico siano adeguatamente preparati per ottimizzare l’efficienza energetica e promuovere la sostenibilità ambientale. \n\n\n\nDiventare un EGE certificato offre numerosi vantaggi: \n\n\n\nOpportunità professionali: Ampliare le proprie prospettive di carriera nel settore energetico\, accedendo a nuove opportunità di lavoro in ambito industriale\, commerciale e pubblico. \n\n\n\nSostenibilità e risparmio: Ottimizzare i consumi energetici\, ridurre gli sprechi e risparmiare sui costi operativi. \n\n\n\nConformità normativa: Garantire che l’azienda rispetti le normative nazionali e internazionali relative all’energia e alla sostenibilità. \n\n\n\nMiglioramento delle performance aziendali: Aumentare l’efficienza operativa attraverso l’adozione di strategie di gestione energetica. \n\n\n\nSI Cert Italy è in fase di Accreditamento con ACCREDIA per la figura professionale Esperto in Gestione dell’Energia secondo la norma UNI 11339 \n\n\n\nScegli la figura professionale più adatta a te tra EGE Civile – EGE Industriale oppure decidi di certificati per entrambi i settori ed iscriviti. \n\n\n\n\n\n  \n\n\n\nCompila questo modulo per essere ricontattato per l'iscrizione\n\n Nome*\n     \n\n Cognome*\n     \n\n Contatto telefonico*\n     \n\n Mail*\n     \n\n Certificazione di interesse\n     \n\n Altre domande\n     \n\n\n    Autorizzo all'utilizzo dei miei dati per essere ricontattato per le sole informazioni sulla certificazione.\n\n\nΔ
URL:https://sicert.net/eventi/ege-settore-civile-e-industriale-3/
CATEGORIES:Ambiente,Professionalizzanti,Qualificato,Tecnici
END:VEVENT
END:VCALENDAR