BEGIN:VCALENDAR
VERSION:2.0
PRODID:-//SI Cert - ECPv6.15.8//NONSGML v1.0//EN
CALSCALE:GREGORIAN
METHOD:PUBLISH
X-ORIGINAL-URL:https://sicert.net
X-WR-CALDESC:Eventi per SI Cert
REFRESH-INTERVAL;VALUE=DURATION:PT1H
X-Robots-Tag:noindex
X-PUBLISHED-TTL:PT1H
BEGIN:VTIMEZONE
TZID:Europe/Paris
BEGIN:DAYLIGHT
TZOFFSETFROM:+0100
TZOFFSETTO:+0200
TZNAME:CEST
DTSTART:20240331T010000
END:DAYLIGHT
BEGIN:STANDARD
TZOFFSETFROM:+0200
TZOFFSETTO:+0100
TZNAME:CET
DTSTART:20241027T010000
END:STANDARD
BEGIN:DAYLIGHT
TZOFFSETFROM:+0100
TZOFFSETTO:+0200
TZNAME:CEST
DTSTART:20250330T010000
END:DAYLIGHT
BEGIN:STANDARD
TZOFFSETFROM:+0200
TZOFFSETTO:+0100
TZNAME:CET
DTSTART:20251026T010000
END:STANDARD
BEGIN:DAYLIGHT
TZOFFSETFROM:+0100
TZOFFSETTO:+0200
TZNAME:CEST
DTSTART:20260329T010000
END:DAYLIGHT
BEGIN:STANDARD
TZOFFSETFROM:+0200
TZOFFSETTO:+0100
TZNAME:CET
DTSTART:20261025T010000
END:STANDARD
END:VTIMEZONE
BEGIN:VEVENT
DTSTART;TZID=Europe/Paris:20250627T090000
DTEND;TZID=Europe/Paris:20250627T180000
DTSTAMP:20260424T231904
CREATED:20250623T082717Z
LAST-MODIFIED:20250623T082719Z
UID:25783-1751014800-1751047200@sicert.net
SUMMARY:Operatori dei servizi ausiliari alla sicurezza UNI 11925
DESCRIPTION:CERTIFICAZIONE PROFESSIONALE: Responsabile \n\n\n\n\n\n \n\n\n\nCERTIFICAZIONE PROFESSIONALE: Coordinatore \n\n\n\n\n\n \n\n\n\nCERTIFICAZIONE PROFESSIONALE: Assistente \n\n\n\n\n\n\n\n\n\n\n\nContattaci per maggiori informazioni \n\n\n\ne-mail: c.personale@sicert.net \n\n\n\n\n\n  \n\n\n\nCompila questo modulo per essere ricontattato per l'iscrizione\n\n Nome*\n     \n\n Cognome*\n     \n\n Contatto telefonico*\n     \n\n Mail*\n     \n\n Certificazione di interesse\n     \n\n Altre domande\n     \n\n\n    Autorizzo all'utilizzo dei miei dati per essere ricontattato per le sole informazioni sulla certificazione.\n\n\nΔ
URL:https://sicert.net/eventi/operatori-dei-servizi-ausiliari-alla-sicurezza-uni-11925/
CATEGORIES:Qualità
END:VEVENT
BEGIN:VEVENT
DTSTART;TZID=Europe/Paris:20250628T090000
DTEND;TZID=Europe/Paris:20250628T180000
DTSTAMP:20260424T231904
CREATED:20250623T082807Z
LAST-MODIFIED:20250623T082808Z
UID:25785-1751101200-1751133600@sicert.net
SUMMARY:Operatori dei servizi ausiliari alla sicurezza UNI 11925
DESCRIPTION:CERTIFICAZIONE PROFESSIONALE: Responsabile \n\n\n\n\n\n \n\n\n\nCERTIFICAZIONE PROFESSIONALE: Coordinatore \n\n\n\n\n\n \n\n\n\nCERTIFICAZIONE PROFESSIONALE: Assistente \n\n\n\n\n\n\n\n\n\n\n\nContattaci per maggiori informazioni \n\n\n\ne-mail: c.personale@sicert.net \n\n\n\n\n\n  \n\n\n\nCompila questo modulo per essere ricontattato per l'iscrizione\n\n Nome*\n     \n\n Cognome*\n     \n\n Contatto telefonico*\n     \n\n Mail*\n     \n\n Certificazione di interesse\n     \n\n Altre domande\n     \n\n\n    Autorizzo all'utilizzo dei miei dati per essere ricontattato per le sole informazioni sulla certificazione.\n\n\nΔ
URL:https://sicert.net/eventi/operatori-dei-servizi-ausiliari-alla-sicurezza-uni-11925-2/
CATEGORIES:Qualità
END:VEVENT
END:VCALENDAR