BEGIN:VCALENDAR
VERSION:2.0
PRODID:-//SI Cert - ECPv6.15.8//NONSGML v1.0//EN
CALSCALE:GREGORIAN
METHOD:PUBLISH
X-ORIGINAL-URL:https://sicert.net
X-WR-CALDESC:Eventi per SI Cert
REFRESH-INTERVAL;VALUE=DURATION:PT1H
X-Robots-Tag:noindex
X-PUBLISHED-TTL:PT1H
BEGIN:VTIMEZONE
TZID:Europe/Paris
BEGIN:DAYLIGHT
TZOFFSETFROM:+0100
TZOFFSETTO:+0200
TZNAME:CEST
DTSTART:20240331T010000
END:DAYLIGHT
BEGIN:STANDARD
TZOFFSETFROM:+0200
TZOFFSETTO:+0100
TZNAME:CET
DTSTART:20241027T010000
END:STANDARD
BEGIN:DAYLIGHT
TZOFFSETFROM:+0100
TZOFFSETTO:+0200
TZNAME:CEST
DTSTART:20250330T010000
END:DAYLIGHT
BEGIN:STANDARD
TZOFFSETFROM:+0200
TZOFFSETTO:+0100
TZNAME:CET
DTSTART:20251026T010000
END:STANDARD
BEGIN:DAYLIGHT
TZOFFSETFROM:+0100
TZOFFSETTO:+0200
TZNAME:CEST
DTSTART:20260329T010000
END:DAYLIGHT
BEGIN:STANDARD
TZOFFSETFROM:+0200
TZOFFSETTO:+0100
TZNAME:CET
DTSTART:20261025T010000
END:STANDARD
END:VTIMEZONE
BEGIN:VEVENT
DTSTART;TZID=Europe/Paris:20250707T140000
DTEND;TZID=Europe/Paris:20250707T180000
DTSTAMP:20260424T213029
CREATED:20250625T215215Z
LAST-MODIFIED:20250625T215216Z
UID:26172-1751896800-1751911200@sicert.net
SUMMARY:CDE Manager
DESCRIPTION:CERTIFICAZIONE PROFESSIONALE: BIM \n\n\n\n\n\n\n\n\n\n\n\n\n\nCDE Manager – in modalità sincrona da remoto  \n\n\n\nL’Esame permette di certificare le proprie competenze BIM in conformità alla UNI 11337-7:2018 e UNI/PdR 78/2020 per la Gestione digitale dei processi informativi delle costruzioni in ambito dell’Edilizia e opere di ingegneria civile. \n\n\n\nDiventare un professionista BIM certificato ti permetterà di consolidare le conoscenze\, i metodi e gli strumenti di gestione informativa digitale delle costruzioni per la progettazione e la realizzazione di opere di costruzione. \n\n\n\nLa Certificazione professionale consente di essere iscritti all’elenco ACCREDIA dedicato alle figure professionali. Ciò permette di acquisire un plus professionale spendibile nel settore della gestione informativa digitale delle costruzioni. \n\n\n\nCDE Manager 900€ + IVA \n\n\n\nScegli la figura professionale più adatta a te tra CDE Manager – BIM Manager  – BIM Coordinator – BIM Specialist  ed iscriviti. \n\n\n\n\n\n  \n\n\n\nCompila questo modulo per essere ricontattato per l'iscrizione\n\n Nome*\n     \n\n Cognome*\n     \n\n Contatto telefonico*\n     \n\n Mail*\n     \n\n Certificazione di interesse\n     \n\n Altre domande\n     \n\n\n    Autorizzo all'utilizzo dei miei dati per essere ricontattato per le sole informazioni sulla certificazione.\n\n\nΔ
URL:https://sicert.net/eventi/cde-manager-6/
CATEGORIES:BIM
END:VEVENT
BEGIN:VEVENT
DTSTART;TZID=Europe/Paris:20250711T143000
DTEND;TZID=Europe/Paris:20250711T183000
DTSTAMP:20260424T213029
CREATED:20250625T212058Z
LAST-MODIFIED:20250625T212200Z
UID:26133-1752244200-1752258600@sicert.net
SUMMARY:BIM Specialist Struttura\, BIM Coordinator E BIM Manager
DESCRIPTION:CERTIFICAZIONE PROFESSIONALE: BIM \n\n\n\n\n\n\n\n\n\n\n\n\n\nBIM Specialist Struttura\, BIM Coordinator E BIM Manager – in modalità sincrona da remoto  \n\n\n\nL’Esame permette di certificare le proprie competenze BIM in conformità alla UNI 11337-7:2018 e UNI/PdR 78/2020 per la Gestione digitale dei processi informativi delle costruzioni in ambito dell’Edilizia e opere di ingegneria civile. \n\n\n\nDiventare un professionista BIM certificato ti permetterà di consolidare le conoscenze\, i metodi e gli strumenti di gestione informativa digitale delle costruzioni per la progettazione e la realizzazione di opere di costruzione. \n\n\n\nLa Certificazione professionale consente di essere iscritti all’elenco ACCREDIA dedicato alle figure professionali. Ciò permette di acquisire un plus professionale spendibile nel settore della gestione informativa digitale delle costruzioni. \n\n\n\nBIM Specialist: 450€ + IVA (Struttura) \n\n\n\nBIM Coordinator: 700€ + IVA \n\n\n\nBIM Manager 900€ + IVA \n\n\n\nScegli la figura professionale più adatta a te tra CDE Manager – BIM Manager  – BIM Coordinator – BIM Specialist  ed iscriviti. \n\n\n\n\n\n  \n\n\n\nCompila questo modulo per essere ricontattato per l'iscrizione\n\n Nome*\n     \n\n Cognome*\n     \n\n Contatto telefonico*\n     \n\n Mail*\n     \n\n Certificazione di interesse\n     \n\n Altre domande\n     \n\n\n    Autorizzo all'utilizzo dei miei dati per essere ricontattato per le sole informazioni sulla certificazione.\n\n\nΔ
URL:https://sicert.net/eventi/bim-specialist-struttura-bim-coordinator-e-bim-manager/
CATEGORIES:BIM
END:VEVENT
BEGIN:VEVENT
DTSTART;TZID=Europe/Paris:20250721T090000
DTEND;TZID=Europe/Paris:20250721T140000
DTSTAMP:20260424T213029
CREATED:20250226T155401Z
LAST-MODIFIED:20250709T151726Z
UID:16867-1753088400-1753106400@sicert.net
SUMMARY:EGE settore Industriale
DESCRIPTION:CERTIFICAZIONE PROFESSIONALE: Esperto in Gestione dell’Energia – EGE Industriale \n\n\n\n\n\n \n\n\n\n\n\nSI CERT : EGE settore Industriale \n\n\n\nLa certificazione Esperto in Gestione dell’Energia (EGE)\, secondo la norma UNI 11339\, è un riconoscimento professionale che attesta la competenza di un individuo nel campo della gestione dell’energia all’interno di organizzazioni pubbliche e private. Il certificato è volto a garantire che i professionisti che operano nel settore energetico siano adeguatamente preparati per ottimizzare l’efficienza energetica e promuovere la sostenibilità ambientale. \n\n\n\nDiventare un EGE certificato offre numerosi vantaggi: \n\n\n\nOpportunità professionali: Ampliare le proprie prospettive di carriera nel settore energetico\, accedendo a nuove opportunità di lavoro in ambito industriale\, commerciale e pubblico. \n\n\n\nSostenibilità e risparmio: Ottimizzare i consumi energetici\, ridurre gli sprechi e risparmiare sui costi operativi. \n\n\n\nConformità normativa: Garantire che l’azienda rispetti le normative nazionali e internazionali relative all’energia e alla sostenibilità. \n\n\n\nMiglioramento delle performance aziendali: Aumentare l’efficienza operativa attraverso l’adozione di strategie di gestione energetica. \n\n\n\nSI Cert Italy è in fase di Accreditamento con ACCREDIA per la figura professionale Esperto in Gestione dell’Energia secondo la norma UNI 11339 \n\n\n\nScegli la figura professionale più adatta a te tra EGE Civile – EGE Industriale oppure decidi di certificati per entrambi i settori ed iscriviti. \n\n\n\n\n\n  \n\n\n\nCompila questo modulo per essere ricontattato per l'iscrizione\n\n Nome*\n     \n\n Cognome*\n     \n\n Contatto telefonico*\n     \n\n Mail*\n     \n\n Certificazione di interesse\n     \n\n Altre domande\n     \n\n\n    Autorizzo all'utilizzo dei miei dati per essere ricontattato per le sole informazioni sulla certificazione.\n\n\nΔ
URL:https://sicert.net/eventi/ege-settore-civile-e-industriale/
LOCATION:Capaccio\, SS 18 Tirrena Inferiore\, 119\, 84047 Capaccio Paestum SA\, Capaccio Paestum\, 84047\, Italy
CATEGORIES:Ambiente,Professionalizzanti,Qualificato,Tecnici
END:VEVENT
BEGIN:VEVENT
DTSTART;TZID=Europe/Paris:20250721T093000
DTEND;TZID=Europe/Paris:20250721T133000
DTSTAMP:20260424T213029
CREATED:20250625T174250Z
LAST-MODIFIED:20250625T211622Z
UID:26102-1753090200-1753104600@sicert.net
SUMMARY:BIM Specialist Architettura/Struttura/Impianti E BIM Coordinator
DESCRIPTION:CERTIFICAZIONE PROFESSIONALE: BIM \n\n\n\n\n\n\n\n\n\n\n\n\n\nBIM Specialist Architettura/Struttura/Impianti E BIM Coordinator – in modalità sincrona da remoto  \n\n\n\nL’Esame permette di certificare le proprie competenze BIM in conformità alla UNI 11337-7:2018 e UNI/PdR 78/2020 per la Gestione digitale dei processi informativi delle costruzioni in ambito dell’Edilizia e opere di ingegneria civile. \n\n\n\nDiventare un professionista BIM certificato ti permetterà di consolidare le conoscenze\, i metodi e gli strumenti di gestione informativa digitale delle costruzioni per la progettazione e la realizzazione di opere di costruzione. \n\n\n\nLa Certificazione professionale consente di essere iscritti all’elenco ACCREDIA dedicato alle figure professionali. Ciò permette di acquisire un plus professionale spendibile nel settore della gestione informativa digitale delle costruzioni. \n\n\n\nBIM Specialist: 450€ + IVA (Architettura/Struttura/Impianti) \n\n\n\nBIM Coordinator: 700€ + IVA \n\n\n\nScegli la figura professionale più adatta a te tra CDE Manager – BIM Manager  – BIM Coordinator – BIM Specialist  ed iscriviti. \n\n\n\n\n\n  \n\n\n\nCompila questo modulo per essere ricontattato per l'iscrizione\n\n Nome*\n     \n\n Cognome*\n     \n\n Contatto telefonico*\n     \n\n Mail*\n     \n\n Certificazione di interesse\n     \n\n Altre domande\n     \n\n\n    Autorizzo all'utilizzo dei miei dati per essere ricontattato per le sole informazioni sulla certificazione.\n\n\nΔ
URL:https://sicert.net/eventi/bim-specialist-architettura-struttura-impianti/
CATEGORIES:BIM
END:VEVENT
BEGIN:VEVENT
DTSTART;TZID=Europe/Paris:20250724T090000
DTEND;TZID=Europe/Paris:20250724T130000
DTSTAMP:20260424T213029
CREATED:20250625T214845Z
LAST-MODIFIED:20250625T214846Z
UID:26164-1753347600-1753362000@sicert.net
SUMMARY:CDE Manager
DESCRIPTION:CERTIFICAZIONE PROFESSIONALE: BIM \n\n\n\n\n\n\n\n\n\n\n\n\n\nCDE Manager – in modalità sincrona da remoto  \n\n\n\nL’Esame permette di certificare le proprie competenze BIM in conformità alla UNI 11337-7:2018 e UNI/PdR 78/2020 per la Gestione digitale dei processi informativi delle costruzioni in ambito dell’Edilizia e opere di ingegneria civile. \n\n\n\nDiventare un professionista BIM certificato ti permetterà di consolidare le conoscenze\, i metodi e gli strumenti di gestione informativa digitale delle costruzioni per la progettazione e la realizzazione di opere di costruzione. \n\n\n\nLa Certificazione professionale consente di essere iscritti all’elenco ACCREDIA dedicato alle figure professionali. Ciò permette di acquisire un plus professionale spendibile nel settore della gestione informativa digitale delle costruzioni. \n\n\n\nCDE Manager 900€ + IVA \n\n\n\nScegli la figura professionale più adatta a te tra CDE Manager – BIM Manager  – BIM Coordinator – BIM Specialist  ed iscriviti. \n\n\n\n\n\n  \n\n\n\nCompila questo modulo per essere ricontattato per l'iscrizione\n\n Nome*\n     \n\n Cognome*\n     \n\n Contatto telefonico*\n     \n\n Mail*\n     \n\n Certificazione di interesse\n     \n\n Altre domande\n     \n\n\n    Autorizzo all'utilizzo dei miei dati per essere ricontattato per le sole informazioni sulla certificazione.\n\n\nΔ
URL:https://sicert.net/eventi/cde-manager-2/
CATEGORIES:BIM
END:VEVENT
BEGIN:VEVENT
DTSTART;TZID=Europe/Paris:20250725T143000
DTEND;TZID=Europe/Paris:20250725T183000
DTSTAMP:20260424T213029
CREATED:20250625T214346Z
LAST-MODIFIED:20250625T214347Z
UID:26154-1753453800-1753468200@sicert.net
SUMMARY:BIM Specialist Infrastruttura
DESCRIPTION:CERTIFICAZIONE PROFESSIONALE: BIM \n\n\n\n\n\n\n\n\n\n\n\n\n\nBIM Specialist Infrastruttura – in modalità sincrona da remoto  \n\n\n\nL’Esame permette di certificare le proprie competenze BIM in conformità alla UNI 11337-7:2018 e UNI/PdR 78/2020 per la Gestione digitale dei processi informativi delle costruzioni in ambito dell’Edilizia e opere di ingegneria civile. \n\n\n\nDiventare un professionista BIM certificato ti permetterà di consolidare le conoscenze\, i metodi e gli strumenti di gestione informativa digitale delle costruzioni per la progettazione e la realizzazione di opere di costruzione. \n\n\n\nLa Certificazione professionale consente di essere iscritti all’elenco ACCREDIA dedicato alle figure professionali. Ciò permette di acquisire un plus professionale spendibile nel settore della gestione informativa digitale delle costruzioni. \n\n\n\nBIM Specialist: 450€ + IVA (Infrastruttura) \n\n\n\nBIM Coordinator: 700€ + IVA \n\n\n\nBIM Manager 900€ + IVA \n\n\n\nScegli la figura professionale più adatta a te tra CDE Manager – BIM Manager  – BIM Coordinator – BIM Specialist  ed iscriviti. \n\n\n\n\n\n  \n\n\n\nCompila questo modulo per essere ricontattato per l'iscrizione\n\n Nome*\n     \n\n Cognome*\n     \n\n Contatto telefonico*\n     \n\n Mail*\n     \n\n Certificazione di interesse\n     \n\n Altre domande\n     \n\n\n    Autorizzo all'utilizzo dei miei dati per essere ricontattato per le sole informazioni sulla certificazione.\n\n\nΔ
URL:https://sicert.net/eventi/bim-specialist-infrastruttura/
CATEGORIES:BIM
END:VEVENT
BEGIN:VEVENT
DTSTART;TZID=Europe/Paris:20250731T143000
DTEND;TZID=Europe/Paris:20250731T183000
DTSTAMP:20260424T213029
CREATED:20250625T212626Z
LAST-MODIFIED:20250625T212948Z
UID:26144-1753972200-1753986600@sicert.net
SUMMARY:BIM Specialist Architettura/Impianti\, BIM Coordinator E BIM Manager
DESCRIPTION:CERTIFICAZIONE PROFESSIONALE: BIM \n\n\n\n\n\n\n\n\n\n\n\n\n\nBIM Specialist Architettura/Impianti\, BIM Coordinator E BIM Manager – in modalità sincrona da remoto  \n\n\n\nL’Esame permette di certificare le proprie competenze BIM in conformità alla UNI 11337-7:2018 e UNI/PdR 78/2020 per la Gestione digitale dei processi informativi delle costruzioni in ambito dell’Edilizia e opere di ingegneria civile. \n\n\n\nDiventare un professionista BIM certificato ti permetterà di consolidare le conoscenze\, i metodi e gli strumenti di gestione informativa digitale delle costruzioni per la progettazione e la realizzazione di opere di costruzione. \n\n\n\nLa Certificazione professionale consente di essere iscritti all’elenco ACCREDIA dedicato alle figure professionali. Ciò permette di acquisire un plus professionale spendibile nel settore della gestione informativa digitale delle costruzioni. \n\n\n\nBIM Specialist: 450€ + IVA (Architettura/Impianti) \n\n\n\nBIM Coordinator: 700€ + IVA \n\n\n\nBIM Manager: 900 + IVA \n\n\n\nScegli la figura professionale più adatta a te tra CDE Manager – BIM Manager  – BIM Coordinator – BIM Specialist  ed iscriviti. \n\n\n\n\n\n  \n\n\n\nCompila questo modulo per essere ricontattato per l'iscrizione\n\n Nome*\n     \n\n Cognome*\n     \n\n Contatto telefonico*\n     \n\n Mail*\n     \n\n Certificazione di interesse\n     \n\n Altre domande\n     \n\n\n    Autorizzo all'utilizzo dei miei dati per essere ricontattato per le sole informazioni sulla certificazione.\n\n\nΔ
URL:https://sicert.net/eventi/bim-specialist-architettura-impianti-bim-coordinator-e-bim-manager/
CATEGORIES:BIM
END:VEVENT
END:VCALENDAR