BEGIN:VCALENDAR
VERSION:2.0
PRODID:-//SI Cert - ECPv6.15.8//NONSGML v1.0//EN
CALSCALE:GREGORIAN
METHOD:PUBLISH
X-ORIGINAL-URL:https://sicert.net
X-WR-CALDESC:Eventi per SI Cert
REFRESH-INTERVAL;VALUE=DURATION:PT1H
X-Robots-Tag:noindex
X-PUBLISHED-TTL:PT1H
BEGIN:VTIMEZONE
TZID:Europe/Paris
BEGIN:DAYLIGHT
TZOFFSETFROM:+0100
TZOFFSETTO:+0200
TZNAME:CEST
DTSTART:20240331T010000
END:DAYLIGHT
BEGIN:STANDARD
TZOFFSETFROM:+0200
TZOFFSETTO:+0100
TZNAME:CET
DTSTART:20241027T010000
END:STANDARD
BEGIN:DAYLIGHT
TZOFFSETFROM:+0100
TZOFFSETTO:+0200
TZNAME:CEST
DTSTART:20250330T010000
END:DAYLIGHT
BEGIN:STANDARD
TZOFFSETFROM:+0200
TZOFFSETTO:+0100
TZNAME:CET
DTSTART:20251026T010000
END:STANDARD
BEGIN:DAYLIGHT
TZOFFSETFROM:+0100
TZOFFSETTO:+0200
TZNAME:CEST
DTSTART:20260329T010000
END:DAYLIGHT
BEGIN:STANDARD
TZOFFSETFROM:+0200
TZOFFSETTO:+0100
TZNAME:CET
DTSTART:20261025T010000
END:STANDARD
END:VTIMEZONE
BEGIN:VEVENT
DTSTART;TZID=Europe/Paris:20251103T090000
DTEND;TZID=Europe/Paris:20251103T130000
DTSTAMP:20260424T135538
CREATED:20251021T080008Z
LAST-MODIFIED:20251027T145432Z
UID:26178-1762160400-1762174800@sicert.net
SUMMARY:BIM Coordinator
DESCRIPTION:Esame di certificazione BIM Coordinator – Lunedì 3 novembre 2025 \n\n\n\nCERTIFICAZIONE PROFESSIONALE: BIM COORDINATOR \n\n\n\n\n\n\n\nCosto Certificazione \n\n\n\n\n\n\n\n\n\n\n\nBIM Coordinator – in modalità sincrona da remoto  \n\n\n\nL’Esame permette di certificare le proprie competenze BIM in conformità alla UNI 11337-7:2018 e UNI/PdR 78/2020 per la Gestione digitale dei processi informativi delle costruzioni in ambito dell’Edilizia e opere di ingegneria civile. \n\n\n\nDiventare un professionista BIM certificato ti permetterà di consolidare le conoscenze\, i metodi e gli strumenti di gestione informativa digitale delle costruzioni per la progettazione e la realizzazione di opere di costruzione. \n\n\n\nLa Certificazione professionale consente di essere iscritti all’elenco ACCREDIA dedicato alle figure professionali. Ciò permette di acquisire un plus professionale spendibile nel settore della gestione informativa digitale delle costruzioni. \n\n\n\nBIM Coordinator 700€ + IVA \n\n\n\nScegli la figura professionale più adatta a te tra CDE Manager – BIM Manager  – BIM Coordinator – BIM Specialist  ed iscriviti. \n\n\n\n\n\n  \n\n\n\nCompila questo modulo per essere ricontattato per l'iscrizione\n\n Nome*\n     \n\n Cognome*\n     \n\n Contatto telefonico*\n     \n\n Mail*\n     \n\n Certificazione di interesse\n     \n\n Altre domande\n     \n\n\n    Autorizzo all'utilizzo dei miei dati per essere ricontattato per le sole informazioni sulla certificazione.\n\n\nΔ
URL:https://sicert.net/eventi/bim-coordinator-4/
CATEGORIES:BIM
END:VEVENT
BEGIN:VEVENT
DTSTART;TZID=Europe/Paris:20251104T093000
DTEND;TZID=Europe/Paris:20251104T133000
DTSTAMP:20260424T135538
CREATED:20250625T211843Z
LAST-MODIFIED:20250625T211844Z
UID:26129-1762248600-1762263000@sicert.net
SUMMARY:BIM Specialist Architettura/Struttura/Impianti E BIM Coordinator
DESCRIPTION:CERTIFICAZIONE PROFESSIONALE: BIM \n\n\n\n\n\n\n\n\n\n\n\n\n\nBIM Specialist Architettura/Struttura/Impianti E BIM Coordinator – in modalità sincrona da remoto  \n\n\n\nL’Esame permette di certificare le proprie competenze BIM in conformità alla UNI 11337-7:2018 e UNI/PdR 78/2020 per la Gestione digitale dei processi informativi delle costruzioni in ambito dell’Edilizia e opere di ingegneria civile. \n\n\n\nDiventare un professionista BIM certificato ti permetterà di consolidare le conoscenze\, i metodi e gli strumenti di gestione informativa digitale delle costruzioni per la progettazione e la realizzazione di opere di costruzione. \n\n\n\nLa Certificazione professionale consente di essere iscritti all’elenco ACCREDIA dedicato alle figure professionali. Ciò permette di acquisire un plus professionale spendibile nel settore della gestione informativa digitale delle costruzioni. \n\n\n\nBIM Specialist: 450€ + IVA (Architettura/Struttura/Impianti) \n\n\n\nBIM Coordinator: 700€ + IVA \n\n\n\nScegli la figura professionale più adatta a te tra CDE Manager – BIM Manager  – BIM Coordinator – BIM Specialist  ed iscriviti. \n\n\n\n\n\n  \n\n\n\nCompila questo modulo per essere ricontattato per l'iscrizione\n\n Nome*\n     \n\n Cognome*\n     \n\n Contatto telefonico*\n     \n\n Mail*\n     \n\n Certificazione di interesse\n     \n\n Altre domande\n     \n\n\n    Autorizzo all'utilizzo dei miei dati per essere ricontattato per le sole informazioni sulla certificazione.\n\n\nΔ
URL:https://sicert.net/eventi/bim-specialist-architettura-struttura-impianti-e-bim-coordinator-3/
CATEGORIES:BIM
END:VEVENT
BEGIN:VEVENT
DTSTART;TZID=Europe/Paris:20251114T143000
DTEND;TZID=Europe/Paris:20251114T183000
DTSTAMP:20260424T135538
CREATED:20250625T214121Z
LAST-MODIFIED:20250625T214210Z
UID:26150-1763130600-1763145000@sicert.net
SUMMARY:BIM Specialist Architettura/Impianti\, BIM Coordinator E BIM Manager
DESCRIPTION:CERTIFICAZIONE PROFESSIONALE: BIM \n\n\n\n\n\n\n\n\n\n\n\n\n\nBIM Specialist Architettura/Impianti\, BIM Coordinator E BIM Manager – in modalità sincrona da remoto  \n\n\n\nL’Esame permette di certificare le proprie competenze BIM in conformità alla UNI 11337-7:2018 e UNI/PdR 78/2020 per la Gestione digitale dei processi informativi delle costruzioni in ambito dell’Edilizia e opere di ingegneria civile. \n\n\n\nDiventare un professionista BIM certificato ti permetterà di consolidare le conoscenze\, i metodi e gli strumenti di gestione informativa digitale delle costruzioni per la progettazione e la realizzazione di opere di costruzione. \n\n\n\nLa Certificazione professionale consente di essere iscritti all’elenco ACCREDIA dedicato alle figure professionali. Ciò permette di acquisire un plus professionale spendibile nel settore della gestione informativa digitale delle costruzioni. \n\n\n\nBIM Specialist: 450€ + IVA (Architettura/Impianti) \n\n\n\nBIM Coordinator: 700€ + IVA \n\n\n\nBIM Manager: 900 + IVA \n\n\n\nScegli la figura professionale più adatta a te tra CDE Manager – BIM Manager  – BIM Coordinator – BIM Specialist  ed iscriviti. \n\n\n\n\n\n  \n\n\n\nCompila questo modulo per essere ricontattato per l'iscrizione\n\n Nome*\n     \n\n Cognome*\n     \n\n Contatto telefonico*\n     \n\n Mail*\n     \n\n Certificazione di interesse\n     \n\n Altre domande\n     \n\n\n    Autorizzo all'utilizzo dei miei dati per essere ricontattato per le sole informazioni sulla certificazione.\n\n\nΔ
URL:https://sicert.net/eventi/bim-specialist-architettura-impianti-bim-coordinator-e-bim-manager-4/
CATEGORIES:BIM
END:VEVENT
BEGIN:VEVENT
DTSTART;TZID=Europe/Paris:20251120T090000
DTEND;TZID=Europe/Paris:20251120T130000
DTSTAMP:20260424T135538
CREATED:20250625T215011Z
LAST-MODIFIED:20250625T215046Z
UID:26168-1763629200-1763643600@sicert.net
SUMMARY:CDE Manager
DESCRIPTION:CERTIFICAZIONE PROFESSIONALE: BIM \n\n\n\n\n\n\n\n\n\n\n\n\n\nCDE Manager – in modalità sincrona da remoto  \n\n\n\nL’Esame permette di certificare le proprie competenze BIM in conformità alla UNI 11337-7:2018 e UNI/PdR 78/2020 per la Gestione digitale dei processi informativi delle costruzioni in ambito dell’Edilizia e opere di ingegneria civile. \n\n\n\nDiventare un professionista BIM certificato ti permetterà di consolidare le conoscenze\, i metodi e gli strumenti di gestione informativa digitale delle costruzioni per la progettazione e la realizzazione di opere di costruzione. \n\n\n\nLa Certificazione professionale consente di essere iscritti all’elenco ACCREDIA dedicato alle figure professionali. Ciò permette di acquisire un plus professionale spendibile nel settore della gestione informativa digitale delle costruzioni. \n\n\n\nCDE Manager 900€ + IVA \n\n\n\nScegli la figura professionale più adatta a te tra CDE Manager – BIM Manager  – BIM Coordinator – BIM Specialist  ed iscriviti. \n\n\n\n\n\n  \n\n\n\nCompila questo modulo per essere ricontattato per l'iscrizione\n\n Nome*\n     \n\n Cognome*\n     \n\n Contatto telefonico*\n     \n\n Mail*\n     \n\n Certificazione di interesse\n     \n\n Altre domande\n     \n\n\n    Autorizzo all'utilizzo dei miei dati per essere ricontattato per le sole informazioni sulla certificazione.\n\n\nΔ
URL:https://sicert.net/eventi/cde-manager-4/
CATEGORIES:BIM
END:VEVENT
BEGIN:VEVENT
DTSTART;TZID=Europe/Paris:20251121T143000
DTEND;TZID=Europe/Paris:20251121T183000
DTSTAMP:20260424T135538
CREATED:20250625T212358Z
LAST-MODIFIED:20250625T212400Z
UID:26140-1763735400-1763749800@sicert.net
SUMMARY:BIM Specialist Struttura\, BIM Coordinator E BIM Manager
DESCRIPTION:CERTIFICAZIONE PROFESSIONALE: BIM \n\n\n\n\n\n\n\n\n\n\n\n\n\nBIM Specialist Struttura\, BIM Coordinator E BIM Manager – in modalità sincrona da remoto  \n\n\n\nL’Esame permette di certificare le proprie competenze BIM in conformità alla UNI 11337-7:2018 e UNI/PdR 78/2020 per la Gestione digitale dei processi informativi delle costruzioni in ambito dell’Edilizia e opere di ingegneria civile. \n\n\n\nDiventare un professionista BIM certificato ti permetterà di consolidare le conoscenze\, i metodi e gli strumenti di gestione informativa digitale delle costruzioni per la progettazione e la realizzazione di opere di costruzione. \n\n\n\nLa Certificazione professionale consente di essere iscritti all’elenco ACCREDIA dedicato alle figure professionali. Ciò permette di acquisire un plus professionale spendibile nel settore della gestione informativa digitale delle costruzioni. \n\n\n\nBIM Specialist: 450€ + IVA (Struttura) \n\n\n\nBIM Coordinator: 700€ + IVA \n\n\n\nBIM Manager 900€ + IVA \n\n\n\nScegli la figura professionale più adatta a te tra CDE Manager – BIM Manager  – BIM Coordinator – BIM Specialist  ed iscriviti. \n\n\n\n\n\n  \n\n\n\nCompila questo modulo per essere ricontattato per l'iscrizione\n\n Nome*\n     \n\n Cognome*\n     \n\n Contatto telefonico*\n     \n\n Mail*\n     \n\n Certificazione di interesse\n     \n\n Altre domande\n     \n\n\n    Autorizzo all'utilizzo dei miei dati per essere ricontattato per le sole informazioni sulla certificazione.\n\n\nΔ
URL:https://sicert.net/eventi/bim-specialist-struttura-bim-coordinator-e-bim-manager-4/
CATEGORIES:BIM
END:VEVENT
BEGIN:VEVENT
DTSTART;TZID=Europe/Paris:20251121T143000
DTEND;TZID=Europe/Paris:20251121T183000
DTSTAMP:20260424T135538
CREATED:20250625T214652Z
LAST-MODIFIED:20250625T214653Z
UID:26160-1763735400-1763749800@sicert.net
SUMMARY:BIM Specialist Infrastruttura
DESCRIPTION:CERTIFICAZIONE PROFESSIONALE: BIM \n\n\n\n\n\n\n\n\n\n\n\n\n\nBIM Specialist Infrastruttura – in modalità sincrona da remoto  \n\n\n\nL’Esame permette di certificare le proprie competenze BIM in conformità alla UNI 11337-7:2018 e UNI/PdR 78/2020 per la Gestione digitale dei processi informativi delle costruzioni in ambito dell’Edilizia e opere di ingegneria civile. \n\n\n\nDiventare un professionista BIM certificato ti permetterà di consolidare le conoscenze\, i metodi e gli strumenti di gestione informativa digitale delle costruzioni per la progettazione e la realizzazione di opere di costruzione. \n\n\n\nLa Certificazione professionale consente di essere iscritti all’elenco ACCREDIA dedicato alle figure professionali. Ciò permette di acquisire un plus professionale spendibile nel settore della gestione informativa digitale delle costruzioni. \n\n\n\nBIM Specialist: 450€ + IVA (Infrastruttura) \n\n\n\nBIM Coordinator: 700€ + IVA \n\n\n\nBIM Manager 900€ + IVA \n\n\n\nScegli la figura professionale più adatta a te tra CDE Manager – BIM Manager  – BIM Coordinator – BIM Specialist  ed iscriviti. \n\n\n\n\n\n  \n\n\n\nCompila questo modulo per essere ricontattato per l'iscrizione\n\n Nome*\n     \n\n Cognome*\n     \n\n Contatto telefonico*\n     \n\n Mail*\n     \n\n Certificazione di interesse\n     \n\n Altre domande\n     \n\n\n    Autorizzo all'utilizzo dei miei dati per essere ricontattato per le sole informazioni sulla certificazione.\n\n\nΔ
URL:https://sicert.net/eventi/bim-specialist-infrastruttura-4/
CATEGORIES:BIM
END:VEVENT
END:VCALENDAR